BEGIN:VCALENDAR
VERSION:2.0
CALSCALE:GREGORIAN
METHOD:PUBLISH
X-WR-TIMEZONE:Australia/Sydney
BEGIN:VTIMEZONE
TZID:Australia/Sydney
BEGIN:STANDARD
TZNAME:AEST
END:STANDARD
END:VTIMEZONE
BEGIN:VEVENT
DTSTART;TZID=Australia/Sydney:20190318T151500
DTEND;TZID=Australia/Sydney:20190318T161500
RRULE:FREQ=WEEKLY;UNTIL=20190401T161500;BYDAY=MO
DTSTAMP:20190226T170315
UID:818
SUMMARY:Fitastic Kids Club
DESCRIPTION:




After school every Monday in Term 1 excluding Labour Day Public Holiday (11 March).


SEQUENCE:0
STATUS:CONFIRMED
TRANSP:OPAQUE
END:VEVENT
END:VCALENDAR